BEGIN:VCALENDAR
X-WR-CALNAME:PrideParade.net
VERSION:2.0
PRODID:-//PrideParade.net ICS//EN
CALSCALE:GREGORIAN
METHOD:PUBLISH
BEGIN:VEVENT
DTSTART;VALUE=DATE-TIME:20190607T200600
DTEND;VALUE=DATE-TIME:20190607T200600
TRANSP:TRANSPARENT
SUMMARY:Amateur Strip Night At The Max
DESCRIPTION:Amateur Strip Night At The Max\n\nOn the first Friday of the month we celebrate with tantalizing dancers all vying for the top prize. Come out to compete or just enjoy the eye candy! $500 in cash prizes!!
URL;VALUE=URI:https://prideparade.net/events/view/united-states/omaha-ne/the-max/amateur-strip-night-at-the-max-3
UID:https://prideparade.net/events/view/united-states/omaha-ne/the-max/amateur-strip-night-at-the-max-3
DTSTAMP:20190409T190613
LAST-MODIFIED:20190409T190656
CATEGORIES:Events
STATUS:CONFIRMED
SEQUENCE:5
ORGANIZER;CN=PrideParade.net:X-ADDR:https://prideparade.net/
LOCATION:1417 Jackson Street\, Omaha, NE. United states
END:VEVENT
END:VCALENDAR
