BEGIN:VCALENDAR
X-WR-CALNAME:PrideParade.net
VERSION:2.0
PRODID:-//PrideParade.net ICS//EN
CALSCALE:GREGORIAN
METHOD:PUBLISH
BEGIN:VEVENT
DTSTART;VALUE=DATE-TIME:20190406T220000
DTEND;VALUE=DATE-TIME:20190406T220000
TRANSP:TRANSPARENT
SUMMARY:Studio 54 Night
DESCRIPTION:Join us on Saturday 4/6 in the Copper Bar for... Studio 54 Night w/ DJ John Bear!\nHear your favorite disco tracks and boogie oogie oogie the night away!\n- DJ Steve Sidewalk in the Main Room - Play Pool in the Copper Bar or Lobby Bar\nParadise101 Asbury Ave. Asbury Park\, NJ732.988.6663Ages 21+ / ID Required paradisenj.com
URL;VALUE=URI:https://prideparade.net/events/view/united-states/asbury-park-nj/paradise-nightclub/studio-54-night
UID:https://prideparade.net/events/view/united-states/asbury-park-nj/paradise-nightclub/studio-54-night
DTSTAMP:20190326T112734
LAST-MODIFIED:20190326T112735
CATEGORIES:Events
STATUS:CONFIRMED
SEQUENCE:0
ORGANIZER;CN=PrideParade.net:X-ADDR:https://prideparade.net/
LOCATION:101 Asbury Avenue\, Asbury Park, NJ. United states
END:VEVENT
END:VCALENDAR
