BEGIN:VCALENDAR
X-WR-CALNAME:PrideParade.net
VERSION:2.0
PRODID:-//PrideParade.net ICS//EN
CALSCALE:GREGORIAN
METHOD:PUBLISH
BEGIN:VEVENT
DTSTART;VALUE=DATE-TIME:20190216T190000
DTEND;VALUE=DATE-TIME:20190216T190000
TRANSP:TRANSPARENT
SUMMARY:Big Ang’s 3 Year Memorial
DESCRIPTION:Funkey Monkey Lounge Presents:\nBig Ang's 3 YEAR MEMORIAL\nCome out and remember Angela with her friends\, family and loved ones on Saturday February 16\, 2019 at 7 PM!\n$10 COVER\nWe have DJ Ross &ldquo;The Boss&rdquo; playing all of Angela's favorite disco &amp; freestyle classics! We have a DRAG SHOW with New Jersey&rsquo;s own Donna Ria &amp; friends\, The It Crew\, The Brooklyn Cuzo Show and more surprise guests! Come out and celebrate the life of an amazing woman who we all loved!
URL;VALUE=URI:https://prideparade.net/events/view/united-states/new-york-ny/funkey-monkey-lounge/big-ang-s-3-year-memorial
UID:https://prideparade.net/events/view/united-states/new-york-ny/funkey-monkey-lounge/big-ang-s-3-year-memorial
DTSTAMP:20190209T214047
LAST-MODIFIED:20190209T214048
CATEGORIES:Events
STATUS:CONFIRMED
SEQUENCE:0
ORGANIZER;CN=PrideParade.net:X-ADDR:https://prideparade.net/
LOCATION:1205 Forest Avenue\, New York, NY. United states
END:VEVENT
END:VCALENDAR
