BEGIN:VCALENDAR
X-WR-CALNAME:PrideParade.net
VERSION:2.0
PRODID:-//PrideParade.net ICS//EN
CALSCALE:GREGORIAN
METHOD:PUBLISH
BEGIN:VEVENT
DTSTART;VALUE=DATE-TIME:20180613T210000
DTEND;VALUE=DATE-TIME:20180613T210000
TRANSP:TRANSPARENT
SUMMARY:Viva Wednesday: Mardi Gras
DESCRIPTION:Come and join us for a night full of surprises...\n$7.00 Cover Charge\nIts not the sport bar entrance its next to it!!!!&nbsp;\n7312 Castor Ave Philadelphia!
URL;VALUE=URI:https://prideparade.net/events/view/united-states/philadelphia-pa/dimensions/viva-wednesday-mardi-gras
UID:https://prideparade.net/events/view/united-states/philadelphia-pa/dimensions/viva-wednesday-mardi-gras
DTSTAMP:20180613T141359
LAST-MODIFIED:20180613T141400
CATEGORIES:Events
STATUS:CONFIRMED
SEQUENCE:0
ORGANIZER;CN=PrideParade.net:X-ADDR:https://prideparade.net/
LOCATION:7312 Castor Avenue\, Philadelphia, PA. United states
END:VEVENT
END:VCALENDAR
