BEGIN:VCALENDAR
X-WR-CALNAME:PrideParade.net
VERSION:2.0
PRODID:-//PrideParade.net ICS//EN
CALSCALE:GREGORIAN
METHOD:PUBLISH
BEGIN:VEVENT
DTSTART;VALUE=DATE-TIME:20180507T210000
DTEND;VALUE=DATE-TIME:20180507T210000
TRANSP:TRANSPARENT
SUMMARY:Battle Of The Bulges
DESCRIPTION:Battle of the Bulges$150 Prize\nFree drink chips for all who enter. Hosted by Shando Darby.
URL;VALUE=URI:https://prideparade.net/events/view/united-states/san-francisco-ca/440-castro/battle-of-the-bulges
UID:https://prideparade.net/events/view/united-states/san-francisco-ca/440-castro/battle-of-the-bulges
DTSTAMP:20180416T182259
LAST-MODIFIED:20180416T182300
CATEGORIES:Events
STATUS:CONFIRMED
SEQUENCE:0
ORGANIZER;CN=PrideParade.net:X-ADDR:https://prideparade.net/
LOCATION:440 Castro Street\, San Francisco, CA. United states
END:VEVENT
END:VCALENDAR
