BEGIN:VCALENDAR
X-WR-CALNAME:PrideParade.net
VERSION:2.0
PRODID:-//PrideParade.net ICS//EN
CALSCALE:GREGORIAN
METHOD:PUBLISH
BEGIN:VEVENT
DTSTART;VALUE=DATE-TIME:20250603T180000
DTEND;VALUE=DATE-TIME:20250603T180000
TRANSP:TRANSPARENT
SUMMARY:Abington PrideFest 2025
DESCRIPTION:Abington PrideFest 2025\nTuesday\, June 3\, 2025 - 6:00PM to 8:00PM EST\nEveryone is invited to our fifth-annual PrideFest celebration! Enjoy music\, food trucks\, crafts\, community organizations\, vendors\, and more for all ages.\nMusic schedule:Music with Ry will perform between 6:15-7:00 p.m.Traffic Jam will perform between 7:15-8:00 p.m.\nFood trucks will include Babalouie BBQ\, Humpty's Dumplings\, and Frios Gourmet Pops.\nShould it rain\, we will be the celebration inside the Library.\nWebsite:\nabingtonfreelibrary.assabetinteractive.com/calendar/pridefest-3
URL;VALUE=URI:https://prideparade.net/events/view/united-states/abington-pa/abington-free-library/abington-pridefest-2025
UID:https://prideparade.net/events/view/united-states/abington-pa/abington-free-library/abington-pridefest-2025
DTSTAMP:20250516T170623
LAST-MODIFIED:20250516T170623
CATEGORIES:Prides
STATUS:CONFIRMED
SEQUENCE:0
ORGANIZER;CN=PrideParade.net:X-ADDR:https://prideparade.net/
LOCATION:1030 Old York Road\, Abington, PA. United states
END:VEVENT
END:VCALENDAR
