BEGIN:VCALENDAR
X-WR-CALNAME:PrideParade.net
VERSION:2.0
PRODID:-//PrideParade.net ICS//EN
CALSCALE:GREGORIAN
METHOD:PUBLISH
BEGIN:VEVENT
DTSTART;VALUE=DATE-TIME:20250629T120000
DTEND;VALUE=DATE-TIME:20250629T120000
TRANSP:TRANSPARENT
SUMMARY:Montgomery County Pride In The Plaza 2025
DESCRIPTION:Montgomery County Pride In The Plaza 2025\nSunday\, June 29\, 2025 - 12:00PM to 8:00PM EST\nWelcome to Pride In The Plaza &mdash; Montgomery County's annual celebration of diverse LGBTQIA+ communities! Join us on Sunday\, June 29th\, 2025\, 12 PM at Veterans Plaza in Silver Spring for a day filled with fun and festivities.\nPride In The Plaza is a space where everyone can come together to celebrate love\, and living as our most authentic selves!\nThe Festival is located at Veterans Plaza: 1 Veterans Pl\, Silver Spring\, MD 20910.\nSo mark your calendars and join them for this exciting event!\nWebsite:\nliveinyourtruth.org/pride-in-the-plaza
URL;VALUE=URI:https://prideparade.net/events/view/united-states/silver-spring-md/veterans-plaza/montgomery-county-pride-in-the-plaza-2025
UID:https://prideparade.net/events/view/united-states/silver-spring-md/veterans-plaza/montgomery-county-pride-in-the-plaza-2025
DTSTAMP:20250512T184504
LAST-MODIFIED:20250512T184504
CATEGORIES:Prides
STATUS:CONFIRMED
SEQUENCE:0
ORGANIZER;CN=PrideParade.net:X-ADDR:https://prideparade.net/
LOCATION:1 Veterans Place\, Silver Spring, MD. United states
END:VEVENT
END:VCALENDAR
