BEGIN:VCALENDAR
X-WR-CALNAME:PrideParade.net
VERSION:2.0
PRODID:-//PrideParade.net ICS//EN
CALSCALE:GREGORIAN
METHOD:PUBLISH
BEGIN:VEVENT
DTSTART;VALUE=DATE-TIME:20250621T130000
DTEND;VALUE=DATE-TIME:20250621T130000
TRANSP:TRANSPARENT
SUMMARY:Pompton Lakes Pride 2025
DESCRIPTION:Pompton Lakes Pride 2025\nSaturday\, June 21\, 2025 - 1:00PM to 4:00PM EST\nJoin them at the 3rd Annual Pompton Lakes Pride Celebration!\nLibrary Lawn:&nbsp;333 Wanaque Avenue\, Pompton Lake\, NJ\nWebsite:\nfacebook.com/groups/844494780598813
URL;VALUE=URI:https://prideparade.net/events/view/united-states/pompton-lakes-nj/pompton-lakes-public-library/pompton-lakes-pride-2025
UID:https://prideparade.net/events/view/united-states/pompton-lakes-nj/pompton-lakes-public-library/pompton-lakes-pride-2025
DTSTAMP:20250501T161216
LAST-MODIFIED:20250501T161216
CATEGORIES:Prides
STATUS:CONFIRMED
SEQUENCE:0
ORGANIZER;CN=PrideParade.net:X-ADDR:https://prideparade.net/
LOCATION:333 Wanaque Avenue\, Pompton Lakes, NJ. United states
END:VEVENT
END:VCALENDAR
