BEGIN:VCALENDAR
X-WR-CALNAME:PrideParade.net
VERSION:2.0
PRODID:-//PrideParade.net ICS//EN
CALSCALE:GREGORIAN
METHOD:PUBLISH
BEGIN:VEVENT
DTSTART;VALUE=DATE-TIME:20251011T120000
DTEND;VALUE=DATE-TIME:20251011T120000
TRANSP:TRANSPARENT
SUMMARY:Tulsa Pride 2025
DESCRIPTION:Tulsa Pride 2025\nSaturday\, October 11\, 2025 -&nbsp;12:00PM to 11:00PM CST\nDetails Coming Soon!\nFor the full lineup of events please visit the website.\ntulsapride.org
URL;VALUE=URI:https://prideparade.net/events/view/united-states/tulsa-ok/dennis-r-neill-equality-center/tulsa-pride-2025
UID:https://prideparade.net/events/view/united-states/tulsa-ok/dennis-r-neill-equality-center/tulsa-pride-2025
DTSTAMP:20250428T005311
LAST-MODIFIED:20250428T005311
CATEGORIES:Prides
STATUS:CONFIRMED
SEQUENCE:0
ORGANIZER;CN=PrideParade.net:X-ADDR:https://prideparade.net/
LOCATION:621 East 4th Street\, Tulsa, OK. United states
END:VEVENT
END:VCALENDAR
