BEGIN:VCALENDAR
X-WR-CALNAME:PrideParade.net
VERSION:2.0
PRODID:-//PrideParade.net ICS//EN
CALSCALE:GREGORIAN
METHOD:PUBLISH
BEGIN:VEVENT
DTSTART;VALUE=DATE-TIME:20250719T090000
DTEND;VALUE=DATE-TIME:20250719T090000
TRANSP:TRANSPARENT
SUMMARY:Rehoboth Beach Pride 2025
DESCRIPTION:Rehoboth Beach Pride 2025\nSaturday\, July 19\, 2025 - 9:00AM to 4:00PM EST\nSave the Date! Sussex Pride is proud to partner with Gay Women of Rehoboth for Rehoboth Beach Pride! The festival takes place Saturday July 19th\, 2025.\n&nbsp;\nAre you interested in volunteering to help plan Rehoboth Beach Pride? Then join this google group or email info@sussexpride.org\n&nbsp;\nVendor Registration will go live later this month. If you would like to be notified when vendor registration goes live\, please join this google group.\nWebsite:\nsussexpride.org/rehobothbeach
URL;VALUE=URI:https://prideparade.net/events/view/united-states/rehoboth-beach-de/rehoboth-beach-convention-center/rehoboth-beach-pride-2025
UID:https://prideparade.net/events/view/united-states/rehoboth-beach-de/rehoboth-beach-convention-center/rehoboth-beach-pride-2025
DTSTAMP:20250416T152141
LAST-MODIFIED:20250706T155352
CATEGORIES:Prides
STATUS:CONFIRMED
SEQUENCE:0
ORGANIZER;CN=PrideParade.net:X-ADDR:https://prideparade.net/
LOCATION:59 Alderman Court\, Rehoboth Beach, DE. United states
END:VEVENT
END:VCALENDAR
