BEGIN:VCALENDAR
X-WR-CALNAME:PrideParade.net
VERSION:2.0
PRODID:-//PrideParade.net ICS//EN
CALSCALE:GREGORIAN
METHOD:PUBLISH
BEGIN:VEVENT
DTSTART;VALUE=DATE-TIME:20240622T130000
DTEND;VALUE=DATE-TIME:20240622T130000
TRANSP:TRANSPARENT
SUMMARY:Lansing Pride Festival 2024
DESCRIPTION:Lansing Pride Festival 2024\nSaturday\, June 22\, 2024 - 1:00PM to 10:00PM EST\nLansing Pride 2024 will be on June 22\, right in the heart of Old Town!\nInterested in being an entertainer\, sponsor or vendor? Head to the website for more information.\nWebsite:\nlansingpride.org
URL;VALUE=URI:https://prideparade.net/events/view/united-states/lansing-mi/old-town/lansing-pride-festival-2024
UID:https://prideparade.net/events/view/united-states/lansing-mi/old-town/lansing-pride-festival-2024
DTSTAMP:20240411T141848
LAST-MODIFIED:20240626T104636
CATEGORIES:Prides
STATUS:CONFIRMED
SEQUENCE:1
ORGANIZER;CN=PrideParade.net:X-ADDR:https://prideparade.net/
LOCATION:216 East Cesar E. Chavez Avenue\, Lansing, MI. United states
END:VEVENT
END:VCALENDAR
