BEGIN:VCALENDAR
X-WR-CALNAME:PrideParade.net
VERSION:2.0
PRODID:-//PrideParade.net ICS//EN
CALSCALE:GREGORIAN
METHOD:PUBLISH
BEGIN:VEVENT
DTSTART;VALUE=DATE-TIME:20240609T133000
DTEND;VALUE=DATE-TIME:20240609T133000
TRANSP:TRANSPARENT
SUMMARY:Tenafly Pride 2024
DESCRIPTION:Tenafly Pride 2024\nSunday\, June 9\, 2024 - 1:30PM to 4:00PM EST\nThe Pride Parade begins at 1:30PM and will be followed by the Party In The Park in Huyler Park to 4:00PM.\nFor more information please visit the website below.\nWebsite:\nfacebook.com/TenaflyPride
URL;VALUE=URI:https://prideparade.net/events/view/united-states/tenafly-nj/huyler-park/tenafly-pride-2024
UID:https://prideparade.net/events/view/united-states/tenafly-nj/huyler-park/tenafly-pride-2024
DTSTAMP:20240330T163344
LAST-MODIFIED:20240609T171241
CATEGORIES:Prides
STATUS:CONFIRMED
SEQUENCE:2
ORGANIZER;CN=PrideParade.net:X-ADDR:https://prideparade.net/
LOCATION:1 Piermont Road\, Tenafly, NJ. United states
END:VEVENT
END:VCALENDAR
