BEGIN:VCALENDAR
X-WR-CALNAME:PrideParade.net
VERSION:2.0
PRODID:-//PrideParade.net ICS//EN
CALSCALE:GREGORIAN
METHOD:PUBLISH
BEGIN:VEVENT
DTSTART;VALUE=DATE-TIME:20231008T130000
DTEND;VALUE=DATE-TIME:20231008T130000
TRANSP:TRANSPARENT
SUMMARY:Beer Bust at Kobalt Bar in Phoenix AZ
DESCRIPTION:Beer Bust at Kobalt Bar in Phoenix AZ\nSunday\, October 8\, 2023 - 1:00PM to 7:00PM MST\nBenefitting The Phoenix Gay Men's Chorus.\nSpecials: $5 buy-in goes to charity (PHXGMC)\, $2 Ultra Refills\, $3 jello shots\, and $1 off all other beers.\nWebsite:\nkobaltbarphoenix.com
URL;VALUE=URI:https://prideparade.net/events/view/united-states/phoenix-az/kobalt-bar/beer-bust-at-kobalt-bar-in-phoenix-az
UID:https://prideparade.net/events/view/united-states/phoenix-az/kobalt-bar/beer-bust-at-kobalt-bar-in-phoenix-az
DTSTAMP:20230922T155224
LAST-MODIFIED:20230922T155224
CATEGORIES:Events
STATUS:CONFIRMED
SEQUENCE:0
ORGANIZER;CN=PrideParade.net:X-ADDR:https://prideparade.net/
LOCATION:3110 North Central Avenue\, Suite 175\, Phoenix, AZ. United states
END:VEVENT
END:VCALENDAR
