BEGIN:VCALENDAR
X-WR-CALNAME:PrideParade.net
VERSION:2.0
PRODID:-//PrideParade.net ICS//EN
CALSCALE:GREGORIAN
METHOD:PUBLISH
BEGIN:VEVENT
DTSTART;VALUE=DATE-TIME:20230610T200000
DTEND;VALUE=DATE-TIME:20230610T200000
TRANSP:TRANSPARENT
SUMMARY:Central Alabama Pride Parade 2023
DESCRIPTION:Central Alabama Pride Parade 2023\nSaturday\, June 10\, 2023 - 8:00PM to 10:00PM CST\nThe 2023 Pride Parade will continue along the traditional route.\n&nbsp;\nThis year&rsquo;s parade will feature several organizations\, businesses\, community partners\, and tons of FUN!\n&nbsp;\nThe parade will begin at 8PM. The parade is being judged this year\, so expect some great creativity!&nbsp;\n&nbsp;\nThis event is family friendly for all ages!\nFollow the link below to register to be in the parade.&nbsp;centralalabamapride.org/parade\ncentralalabamapride.org
URL;VALUE=URI:https://prideparade.net/events/view/united-states/birmingham-al/central-alabama-pride-parade/central-alabama-pride-parade-2023
UID:https://prideparade.net/events/view/united-states/birmingham-al/central-alabama-pride-parade/central-alabama-pride-parade-2023
DTSTAMP:20230512T114031
LAST-MODIFIED:20230512T114031
CATEGORIES:Prides
STATUS:CONFIRMED
SEQUENCE:0
ORGANIZER;CN=PrideParade.net:X-ADDR:https://prideparade.net/
LOCATION:32nd Satreet\, 7th Avenue\, Birmingham, AL. United states
END:VEVENT
END:VCALENDAR
