BEGIN:VCALENDAR
X-WR-CALNAME:PrideParade.net
VERSION:2.0
PRODID:-//PrideParade.net ICS//EN
CALSCALE:GREGORIAN
METHOD:PUBLISH
BEGIN:VEVENT
DTSTART;VALUE=DATE-TIME:20220918T200800
DTEND;VALUE=DATE-TIME:20220918T200800
TRANSP:TRANSPARENT
SUMMARY:MTN Pride at Crystal Mountain Resort in Enumclaw WA
DESCRIPTION:MTN Pride at Crystal Mountain Resort in Enumclaw WA\nSunday\, September 18\, 2022 - 10:00AM to 5:00PM PST\nJoin Seattle Pride and QPOC Hikers at Crystal Mountain Resort on Sunday\, September 18\, for guided hikes on the scenic Crystal Mountain &amp; Silver Creek trails! We welcome everyone in the LGBTQIA+ community to participate and set the standard that Crystal Mountain is a safe\, welcoming space for everyone to adventure. You&rsquo;ll learn all the tips n&rsquo; tricks to successful hiking adventures\, including planning\, safety\, navigation\, shelter building\, water filtration\, and more. Plus\, a heavy emphasis on fun!\n&nbsp;\nAbout the Hike: We have two guided hike options. Hike down from the summit to the base\, or hike up from the base to the summit. The Gondola will carry you one way or the other.\n&nbsp;\nPlease select your preferred method of hiking during checkout. The ticket includes a gondola ticket\, a guided experience\, and swag from CM partners.\n&nbsp;\nWhat to bring:- 10 Essentials- Backpack- Water in a reusable water bottle- Sunscreen- Sack lunch &amp; snacks- Rainbows + Pride!\n&nbsp;\nHelpful Tips:- Wear comfortable footwear with good traction.- Bring layers (It can get cold in the shade even on hot days)- Wear sun protection\n&nbsp;\nFor more information about hiking at Crystal Mountain\, visit:\neventbrite.com/e/mtn-pride-alpine-adventure-guided-hike-tickets-355255437577
URL;VALUE=URI:https://prideparade.net/events/view/united-states/enumclaw-wa/crystal-mountain-resort/mtn-pride-at-crystal-mountain-resort-in-enumclaw-wa
UID:https://prideparade.net/events/view/united-states/enumclaw-wa/crystal-mountain-resort/mtn-pride-at-crystal-mountain-resort-in-enumclaw-wa
DTSTAMP:20220718T201207
LAST-MODIFIED:20220718T201208
CATEGORIES:Events
STATUS:CONFIRMED
SEQUENCE:0
ORGANIZER;CN=PrideParade.net:X-ADDR:https://prideparade.net/
LOCATION:33914 Crystal Mountain Boulevard\, Enumclaw, WA. United states
END:VEVENT
END:VCALENDAR
