BEGIN:VCALENDAR
X-WR-CALNAME:PrideParade.net
VERSION:2.0
PRODID:-//PrideParade.net ICS//EN
CALSCALE:GREGORIAN
METHOD:PUBLISH
BEGIN:VEVENT
DTSTART;VALUE=DATE-TIME:20170721T220000
DTEND;VALUE=DATE-TIME:20170721T220000
TRANSP:TRANSPARENT
SUMMARY:ART-Tastic: A Variety Performance Show
DESCRIPTION:Nest Nightclub and Artscape After Hours bring you a variety show like none other! Hosted by the incomparable Betty O'Hellno and featuring a multitude of talented performers! Tickets are available now on www.TheBaltimoreEagle.com or at the door on show night! www.Artscape.org\nAnd don't forget to check out the Baltimore Eagle's own art show for Artscape\, Two Fisted Patti Lupone\, in the mezzanine above Eagle Leathers!
URL;VALUE=URI:https://prideparade.net/events/view/united-states/baltimore-md/nest-nightclub/art-tastic-a-variety-performance-show
UID:https://prideparade.net/events/view/united-states/baltimore-md/nest-nightclub/art-tastic-a-variety-performance-show
DTSTAMP:20170716T232959
LAST-MODIFIED:20170716T232959
CATEGORIES:Events
STATUS:CONFIRMED
SEQUENCE:0
ORGANIZER;CN=PrideParade.net:X-ADDR:https://prideparade.net/
LOCATION:2022 North Charles Street\, Baltimore, MD. United states
END:VEVENT
END:VCALENDAR
