BEGIN:VCALENDAR
X-WR-CALNAME:PrideParade.net
VERSION:2.0
PRODID:-//PrideParade.net ICS//EN
CALSCALE:GREGORIAN
METHOD:PUBLISH
BEGIN:VEVENT
DTSTART;VALUE=DATE-TIME:20220319T103000
DTEND;VALUE=DATE-TIME:20220319T103000
TRANSP:TRANSPARENT
SUMMARY:Spring Community Celebrations at The Pavilion in Bend OR
DESCRIPTION:Spring Community Celebrations at The Pavilion in Bend OR\nSaturday\, March 19\, 2022 - 10:30AM to 12:30PM PST\nCelebrate our Community by joining us for activities\, connections\, music\, and more at the Pavilion! Goodbye Winter &amp; Hello Spring!\n&nbsp;\n10:30-12:30pm: Booths\, Activities\, Ice Skating and Music&nbsp;\n&nbsp;\nWhat to Bring:It will be a tad chilly\, be prepared with layers and ready to bundle up! Weather&rsquo;s looking to be in the 50&rsquo;s degrees and partly cloudy. We will have heaters\, a fire pits\, and an indoor space for you to warm up as well as hot cocoa.&nbsp;\n&nbsp;\nWhat to Expect:Raffles! | Seed Ball Creations| Paint a Pot\, Grow a Flower | COCC Bobcat Mascot | Healthy Foods Handout | Springtime Critter Crafts | Rethink Waste Sorting Activity | Lessons from Sloan the Juggler | Group Games| Pop Up Poems | Pollinators Activity| Mobile Food Pantry| High Desert Museum Pass Giveaway | Family Tree Painting | BPRD Fun Facts &amp; Prizes with BPRD Stewards | Hot Cocoa and much more fun!&nbsp;\n&nbsp;\nBrought to you by:Bend Park &amp; Recreation DistrictwithChildren&rsquo;s Forest of Central OregonBend-La Pine School DistrictDeschutes County HealthDeschutes Public LibraryFamily Resource CenterEnvironmental CenterHigh Desert MuseumJuntos AprendemosOUT Central OregonThe Father&rsquo;s GroupNeighbor ImpactCamp TamarackSeed-To-TableCity of BendCOCC\noutcentraloregon.com\n&nbsp;\n\n&nbsp;&nbsp;&nbsp;&nbsp;
URL;VALUE=URI:https://prideparade.net/events/view/united-states/bend-or/the-pavilion/spring-community-celebrations-at-the-pavilion-in-bend-or
UID:https://prideparade.net/events/view/united-states/bend-or/the-pavilion/spring-community-celebrations-at-the-pavilion-in-bend-or
DTSTAMP:20220315T215415
LAST-MODIFIED:20220315T215415
CATEGORIES:Events
STATUS:CONFIRMED
SEQUENCE:0
ORGANIZER;CN=PrideParade.net:X-ADDR:https://prideparade.net/
LOCATION:1001 SouthWest Bradbury Way\, Bend, OR. United states
END:VEVENT
END:VCALENDAR
