BEGIN:VCALENDAR
X-WR-CALNAME:PrideParade.net
VERSION:2.0
PRODID:-//PrideParade.net ICS//EN
CALSCALE:GREGORIAN
METHOD:PUBLISH
BEGIN:VEVENT
DTSTART;VALUE=DATE-TIME:20130331T170000
DTEND;VALUE=DATE-TIME:20130331T170000
TRANSP:TRANSPARENT
SUMMARY:Easter Sunday Beer Blast
DESCRIPTION:EASTER SUNDAY BEER BLAST @ ROCKBAR NYC!\nEvery Sunday!\n&nbsp;\n$3 Miller High Life\, $3 Miller Lite\nFree Pizza!\nFeaturing: DJ/VJ Billy Pfeiffer!
URL;VALUE=URI:https://prideparade.net/events/view/united-states/new-york-ny/rockbar-nyc-1/easter-sunday-beer-blast
UID:https://prideparade.net/events/view/united-states/new-york-ny/rockbar-nyc-1/easter-sunday-beer-blast
DTSTAMP:20130330T070810
LAST-MODIFIED:20130330T070811
CATEGORIES:Events
STATUS:CONFIRMED
SEQUENCE:0
ORGANIZER;CN=PrideParade.net:X-ADDR:https://prideparade.net/
LOCATION:185 Christopher Street\, New York, NY. United states
END:VEVENT
END:VCALENDAR
