BEGIN:VCALENDAR
X-WR-CALNAME:PrideParade.net
VERSION:2.0
PRODID:-//PrideParade.net ICS//EN
CALSCALE:GREGORIAN
METHOD:PUBLISH
BEGIN:VEVENT
DTSTART;VALUE=DATE-TIME:20170716T140000
DTEND;VALUE=DATE-TIME:20170716T140000
TRANSP:TRANSPARENT
SUMMARY:July Beer Bust
DESCRIPTION:What better way to spend a Sunday Afternoon?\n$10 all you can drink drafts\, Miss Lisa taking great care of us at the cash bar\, hot men and women and of course our signiture debauchery. See you on the patio at Georgies
URL;VALUE=URI:https://prideparade.net/events/view/united-states/asbury-park-nj/georgie-s/july-beer-bust
UID:https://prideparade.net/events/view/united-states/asbury-park-nj/georgie-s/july-beer-bust
DTSTAMP:20170715T152233
LAST-MODIFIED:20170715T152233
CATEGORIES:Events
STATUS:CONFIRMED
SEQUENCE:0
ORGANIZER;CN=PrideParade.net:X-ADDR:https://prideparade.net/
LOCATION:810 5th Avenue\, Asbury Park, NJ. United states
END:VEVENT
END:VCALENDAR
