BEGIN:VCALENDAR
X-WR-CALNAME:PrideParade.net
VERSION:2.0
PRODID:-//PrideParade.net ICS//EN
CALSCALE:GREGORIAN
METHOD:PUBLISH
BEGIN:VEVENT
DTSTART;VALUE=DATE-TIME:20211213T220000
DTEND;VALUE=DATE-TIME:20211213T220000
TRANSP:TRANSPARENT
SUMMARY:Trivia Night at The Max in Omaha NE
DESCRIPTION:Trivia Night at The Max in Omaha NE\nEvery Monday - 10:00PM to 2:00AM CST\nStart the week off with fun and fabulous prizes at Monday Trivia Night!\nTeam or Individual play.\nSign at 10PM.\nNew categories each week and special events each month.\nthemaxomaha.com\n&nbsp;\n&nbsp;&nbsp;&nbsp;&nbsp;
URL;VALUE=URI:https://prideparade.net/events/view/united-states/omaha-ne/the-max/trivia-night-at-the-max-in-omaha-ne-2
UID:https://prideparade.net/events/view/united-states/omaha-ne/the-max/trivia-night-at-the-max-in-omaha-ne-2
DTSTAMP:20211129T114744
LAST-MODIFIED:20211129T114744
CATEGORIES:Events
STATUS:CONFIRMED
SEQUENCE:0
ORGANIZER;CN=PrideParade.net:X-ADDR:https://prideparade.net/
LOCATION:1417 Jackson Street\, Omaha, NE. United states
END:VEVENT
END:VCALENDAR
