BEGIN:VCALENDAR
X-WR-CALNAME:PrideParade.net
VERSION:2.0
PRODID:-//PrideParade.net ICS//EN
CALSCALE:GREGORIAN
METHOD:PUBLISH
BEGIN:VEVENT
DTSTART;VALUE=DATE-TIME:20211119T220000
DTEND;VALUE=DATE-TIME:20211119T220000
TRANSP:TRANSPARENT
SUMMARY:Rough House at Green Lantern in Washington DC
DESCRIPTION:Rough House at Green Lantern in Washington DC\nFriday\, November 19\, 2021 - 10:00PM to 2:30AM EST\nThe Green Lantern and Lemz invite you to our infamous lights off\, hands on dance party celebrating our beats and your bodies. Check your limits - and your clothes - at the door\, because at the Rough House we only care about your deepest darkest desires. See you on the dance floor.\n&nbsp;\nYour DJs:LemzC-DubzSean MorrisThe Barber Streisand\n&nbsp;\n$10 Cover includes clothes check.Please keep jockstraps upstairs.No photography please.\n&nbsp;\ngreenlanterndc.com/event/rough-house\n&nbsp;\n&nbsp;&nbsp;&nbsp;&nbsp;
URL;VALUE=URI:https://prideparade.net/events/view/united-states/washington-dc/green-lantern/rough-house-at-green-lantern-in-washington-dc-3
UID:https://prideparade.net/events/view/united-states/washington-dc/green-lantern/rough-house-at-green-lantern-in-washington-dc-3
DTSTAMP:20211108T000458
LAST-MODIFIED:20211108T000458
CATEGORIES:Events
STATUS:CONFIRMED
SEQUENCE:0
ORGANIZER;CN=PrideParade.net:X-ADDR:https://prideparade.net/
LOCATION:1335 Green Court NW\, Washington, DC. United states
END:VEVENT
END:VCALENDAR
