BEGIN:VCALENDAR
X-WR-CALNAME:PrideParade.net
VERSION:2.0
PRODID:-//PrideParade.net ICS//EN
CALSCALE:GREGORIAN
METHOD:PUBLISH
BEGIN:VEVENT
DTSTART;VALUE=DATE-TIME:20211217T190000
DTEND;VALUE=DATE-TIME:20211217T190000
TRANSP:TRANSPARENT
SUMMARY:Jackie Beat: Under the Tree! at Oasis in San Francisco CA
DESCRIPTION:Jackie Beat: Under the Tree! at Oasis in San Francisco CA\nFreiday\, December 17\, 2021 - 7:00PM to 11:00PM PST\n&ldquo;UNDER THE TREE!&rdquo;\n&nbsp;\nYes\, the undisputed queen of crass Christmas carols is full of the holiday spirit and more lit than that annoying neighbor&rsquo;s house! And it&rsquo;s all because she&rsquo;s just so damn happy to be back with her first nativity-knockin&rsquo;\, Santa-smackin&rsquo;\, menorah-manglin&rsquo; LIVE holiday show in over 2 years!\n&nbsp;\nLet Jackie stuff your stocking with a delightfully deranged mix of her classless classics and brand-spanking new material!\nONE NIGHT ONLY!\n&nbsp;\nVERY LIMITED SEATING!\n&nbsp;\nGET YOUR TICKETS NOW!\n&nbsp;\nPlease bring a valid ID. Oasis is 21+ for all events.\n&nbsp;\nDoors open at 6pm. Show will start at 7pm. Seating is assigned upon arrival and first-come\, first-served within the section purchased. Get here early for the best seats possible!\n&nbsp;\neventbrite.com/e/jackie-beat-under-the-tree-tickets-196842600517\n&nbsp;\n&nbsp;&nbsp;&nbsp;&nbsp;
URL;VALUE=URI:https://prideparade.net/events/view/united-states/san-francisco-ca/oasis/jackie-beat-under-the-tree-at-oasis-in-san-francisco-ca
UID:https://prideparade.net/events/view/united-states/san-francisco-ca/oasis/jackie-beat-under-the-tree-at-oasis-in-san-francisco-ca
DTSTAMP:20211107T151536
LAST-MODIFIED:20211107T151537
CATEGORIES:Drag Shows
STATUS:CONFIRMED
SEQUENCE:0
ORGANIZER;CN=PrideParade.net:X-ADDR:https://prideparade.net/
LOCATION:298 11th Street\, San Francisco, CA. United states
END:VEVENT
END:VCALENDAR
