BEGIN:VCALENDAR
X-WR-CALNAME:PrideParade.net
VERSION:2.0
PRODID:-//PrideParade.net ICS//EN
CALSCALE:GREGORIAN
METHOD:PUBLISH
BEGIN:VEVENT
DTSTART;VALUE=DATE-TIME:20211211T110000
DTEND;VALUE=DATE-TIME:20211211T110000
TRANSP:TRANSPARENT
SUMMARY:San Francisco Fetish Flea at Wicked Grounds in San Francisco CA
DESCRIPTION:San Francisco Fetish Flea at Wicked Grounds in San Francisco CA\nSaturday\, December 11\, 2021 - 11:00AM to 2:00PM PST\nIn partnership with Wicked Grounds\, PantherProwLs Enterprises is pleased to announce the Return of the San Francisco Fetish Flea at its New Location in the Wicked Grounds Annex!\n&nbsp;\nAdmission is USD$5.00 per attendee.\n&nbsp;\nWe'll have Vendors!!! Find Clothing\, Toys\, Art and MORE!\n&nbsp;\nIn compliance with current San Francisco Covid regulations\, Proof of Vaccination and masks will be REQUIRED for ALL vendors\, staff and attendees. This is for Everyone's health and safety. We appreciate our cooperation!\n&nbsp;\nSo come spend a day enjoying kinky shopping just in time for the Holidays!!! Find that special gift for someone special\, even if it's You!!! Enjoy the company of fellow kinksters IN Person!\n&nbsp;\nLooking forward to seeing you there!\n&nbsp;\nWe'll be updating information as needed.&nbsp;\n&nbsp;\n**To Vend\, you MUST email SFFFPoP@gmail.com**. No vending slots will be assigned through any other form of communication!\n&nbsp;\nwickedgrounds.com&nbsp;|&nbsp;pantherprowls.com\n&nbsp;\n&nbsp;&nbsp;&nbsp;&nbsp;
URL;VALUE=URI:https://prideparade.net/events/view/united-states/san-francisco-ca/wicked-grounds/san-francisco-fetish-flea-at-wicked-grounds-in-san-francisco-ca
UID:https://prideparade.net/events/view/united-states/san-francisco-ca/wicked-grounds/san-francisco-fetish-flea-at-wicked-grounds-in-san-francisco-ca
DTSTAMP:20211106T123134
LAST-MODIFIED:20211106T123135
CATEGORIES:Events
STATUS:CONFIRMED
SEQUENCE:0
ORGANIZER;CN=PrideParade.net:X-ADDR:https://prideparade.net/
LOCATION:289 8th Street\, San Francisco, CA. United states
END:VEVENT
END:VCALENDAR
