BEGIN:VCALENDAR
X-WR-CALNAME:PrideParade.net
VERSION:2.0
PRODID:-//PrideParade.net ICS//EN
CALSCALE:GREGORIAN
METHOD:PUBLISH
BEGIN:VEVENT
DTSTART;VALUE=DATE-TIME:20151120T193000
DTEND;VALUE=DATE-TIME:20151120T193000
TRANSP:TRANSPARENT
SUMMARY:The Eric Jaffe Show
DESCRIPTION:World Ukulele Champion\, Eric Jaffe presents: The Eric Jaffe Show! A monthly live singing cabaret! Come enjoy a night of Philadelphia's best singers and musicians! NO COVER\nSTARRING Dan CallahanS.M. LukeRachelRocksPaulette Branson\nDoors at 730Show at 8FREE DRINK GIVEAWAYSSPONSORED BY ABSLOUT VODKANO COVER!
URL;VALUE=URI:https://prideparade.net/events/view/united-states/philadelphia-pa/tavern-on-camac/the-eric-jaffe-show
UID:https://prideparade.net/events/view/united-states/philadelphia-pa/tavern-on-camac/the-eric-jaffe-show
DTSTAMP:20151117T132510
LAST-MODIFIED:20151117T132511
CATEGORIES:Events
STATUS:CONFIRMED
SEQUENCE:0
ORGANIZER;CN=PrideParade.net:X-ADDR:https://prideparade.net/
LOCATION:243 South Camac Street\, Philadelphia, PA. United states
END:VEVENT
END:VCALENDAR
