BEGIN:VCALENDAR
X-WR-CALNAME:PrideParade.net
VERSION:2.0
PRODID:-//PrideParade.net ICS//EN
CALSCALE:GREGORIAN
METHOD:PUBLISH
BEGIN:VEVENT
DTSTART;VALUE=DATE-TIME:20210603T150000
DTEND;VALUE=DATE-TIME:20210603T150000
TRANSP:TRANSPARENT
SUMMARY:Capital Pride Cocktail Parade At Multiple Locations In Washington DC
DESCRIPTION:COVID19 UPDATE: PLEASE CONTACT EVENT ORGANIZER TO CONFIRM EVENT IS STILL SCHEDULED\nCapital Pride Cocktail Parade At Multiple Locations In Washington DC\nJune 3-17\, 2021 - 3:00PM to 5:00PM EST\nJoin Capital Pride and Tito's Handmade Vodka for a cocktail parade that lasts all month long. Stop into each participating location\, support the restaurant industry\, and celebrate pride with a cocktail in hand.\n&nbsp;\nDuring the month of June\, for every Tito&rsquo;s Pride Parade cocktail purchased\, Tito&rsquo;s will donate $1 to Capital Pride\, up to $10\,000!&nbsp;\n&nbsp;\nParticipating Locations:\n\nTRADE\nPearl Dive Oyster Palace\nRed Light Bar\nDupont Italian Kitchen\nAnnie&rsquo;s Paramount Steakhouse\nHank&rsquo;s Oyster Bar\nThe Commodore DC\nLarry&rsquo;s Lounge\nGreen Lantern\nHotel Zena\nHedy&rsquo;s Rooftop\nUproar&nbsp;\nNellies\nThe Dirty Goose\nCommissary\nNumber Nine\nStoney&rsquo;s on P\nLogan Tavern\nPitcher&rsquo;s DC\nJR&rsquo;s\nAgora\nDuplex Diner\nBidwell\n\nwww.capitalpride.org/cocktail-parade\n&nbsp;\n&nbsp;&nbsp;&nbsp;&nbsp;
URL;VALUE=URI:https://prideparade.net/events/view/united-states/washington-dc/green-lantern/capital-pride-cocktail-parade-at-multiple-locations-in-washington-dc
UID:https://prideparade.net/events/view/united-states/washington-dc/green-lantern/capital-pride-cocktail-parade-at-multiple-locations-in-washington-dc
DTSTAMP:20210608T162350
LAST-MODIFIED:20210608T162350
CATEGORIES:Events
STATUS:CONFIRMED
SEQUENCE:1
ORGANIZER;CN=PrideParade.net:X-ADDR:https://prideparade.net/
LOCATION:1335 Green Court NW\, Washington, DC. United states
END:VEVENT
END:VCALENDAR
