BEGIN:VCALENDAR
X-WR-CALNAME:PrideParade.net
VERSION:2.0
PRODID:-//PrideParade.net ICS//EN
CALSCALE:GREGORIAN
METHOD:PUBLISH
BEGIN:VEVENT
DTSTART;VALUE=DATE-TIME:20200520T170000
DTEND;VALUE=DATE-TIME:20200520T170000
TRANSP:TRANSPARENT
SUMMARY:Online Event: Tempo From Strut In San Francisco CA
DESCRIPTION:Online Event: Tempo From Strut In San Francisco CA\nEvery Wednesday - 5:00PM to 7:00PM PST\nQTPOC at Strut is partnering with Amora Teese on Wednesdays at 5pm to bring you\, TEMPO!!Tune in with us on Zoom! Here is what to expect:Some of the activities could be- Live Singing (by Amora Teese) - Musical Trivia Games- Happy Hour w/a Special Cocktail of the week - Kiki timeQTPOC at Strut is committed to the safety and well-being of our community by providing evening virtual programming while sheltered in place is active.This is a FREE virtual event on Zoom. Links will be posted on Facebook here! So make sure to always check here for the details! Zoom app download may be required. Questions about QTPOC at Strut events during a shelter in place contact Esteban Cuaya-Munoz at ecuaya-munoz@sfaf.org\nwww.facebook.com/StrutSF\n&nbsp;\n&nbsp;&nbsp;
URL;VALUE=URI:https://prideparade.net/events/view/united-states/san-francisco-ca/strut/online-event-tempo-from-strut-in-san-francisco-ca-1
UID:https://prideparade.net/events/view/united-states/san-francisco-ca/strut/online-event-tempo-from-strut-in-san-francisco-ca-1
DTSTAMP:20200507T163857
LAST-MODIFIED:20200507T163857
CATEGORIES:Online
STATUS:CONFIRMED
SEQUENCE:0
ORGANIZER;CN=PrideParade.net:X-ADDR:https://prideparade.net/
LOCATION:470 Castro Street\, San Francisco, CA. United states
END:VEVENT
END:VCALENDAR
