BEGIN:VCALENDAR
X-WR-CALNAME:PrideParade.net
VERSION:2.0
PRODID:-//PrideParade.net ICS//EN
CALSCALE:GREGORIAN
METHOD:PUBLISH
BEGIN:VEVENT
DTSTART;VALUE=DATE-TIME:20191213T200000
DTEND;VALUE=DATE-TIME:20191213T200000
TRANSP:TRANSPARENT
SUMMARY:December Bash At The Motor House In Baltimore MD
DESCRIPTION:December Bash At The Motor House&nbsp;In Baltimore MD\nDecember 13\, 2019 - 8:00PM to 12:00AM\nDecember Bash is a fundraiser held by the Pride Center of Maryland (PCOM) a night of music\, dancing\, and friends. Proceeds will go towards Baltimore Pride.Host: PrettyRik EMusic: DJ SwankMusic | Dancing | Food | Fun | PrizesThe Pride Center of Maryland has offered programming since its founding in 1977and is the official organizer of the annual Baltimore Pride celebration. We have worked diligently to unite\, empower and advocate for Baltimore&rsquo;s sexual and gender minority community.The Motor House (120 W. North Ave\, Baltimore\, MD 21201)\nwww.eventbrite.com/e/december-bash-tickets-78568625875
URL;VALUE=URI:https://prideparade.net/events/view/united-states/baltimore-md/the-motor-house/december-bash-at-the-motor-house-in-baltimore-md
UID:https://prideparade.net/events/view/united-states/baltimore-md/the-motor-house/december-bash-at-the-motor-house-in-baltimore-md
DTSTAMP:20191108T184846
LAST-MODIFIED:20191108T184847
CATEGORIES:Events
STATUS:CONFIRMED
SEQUENCE:0
ORGANIZER;CN=PrideParade.net:X-ADDR:https://prideparade.net/
LOCATION:120 West North Avenue\, Baltimore, MD. United states
END:VEVENT
END:VCALENDAR
