BEGIN:VCALENDAR
X-WR-CALNAME:PrideParade.net
VERSION:2.0
PRODID:-//PrideParade.net ICS//EN
CALSCALE:GREGORIAN
METHOD:PUBLISH
BEGIN:VEVENT
DTSTART;VALUE=DATE-TIME:20190921T210000
DTEND;VALUE=DATE-TIME:20190922T030000
TRANSP:TRANSPARENT
SUMMARY:The Bear Cave: #MeatWave At Green Lantern In Washington DC
DESCRIPTION:The Bear Cave: #MeatWave At Green Lantern In Washington DC\nSeptember 21\, 2019 - 9:00PM to 3:00AM\nThe Bear Cave:#MeatWave is Proud to Present GoGo Dancers Adult Film Star Luis Vega &amp; we just added Pup Indigo !Get that Tip Money Ready!Our Hot Beartenders will be Serving Drink Specials ALL Night!DJ Popperz will Be Serving All Types of Music including Club\, Retro\, Latin\, Hip-hop\, K Pop &amp; Even Britney!Wear as Much or as Little as You Like!NO COVER!Must Be 21 &amp; Over!\nwww.greenlanterndc.com
URL;VALUE=URI:https://prideparade.net/events/view/united-states/washington-dc/green-lantern/the-bear-cave-meatwave-at-green-lantern-in-washington-dc
UID:https://prideparade.net/events/view/united-states/washington-dc/green-lantern/the-bear-cave-meatwave-at-green-lantern-in-washington-dc
DTSTAMP:20190920T202941
LAST-MODIFIED:20190920T202942
CATEGORIES:Events
STATUS:CONFIRMED
SEQUENCE:0
ORGANIZER;CN=PrideParade.net:X-ADDR:https://prideparade.net/
LOCATION:1335 Green Court NW\, Washington, DC. United states
END:VEVENT
END:VCALENDAR
