BEGIN:VCALENDAR
X-WR-CALNAME:PrideParade.net
VERSION:2.0
PRODID:-//PrideParade.net ICS//EN
CALSCALE:GREGORIAN
METHOD:PUBLISH
BEGIN:VEVENT
DTSTART;VALUE=DATE-TIME:20130830T230000
DTEND;VALUE=DATE-TIME:20130830T230000
TRANSP:TRANSPARENT
SUMMARY:Two Nations
DESCRIPTION:Robbi presentsTWO NATIONS )))))BLACKOUT((((wear all black enter at a discount price$5 before midnite**downstairs** South entrancewith stunning surround sound byWAYNE WILLIAMS (Chosen Few Chicago)MARK FRANCIS (Club Shelter New York)+starting the night off DJ JusticeHotline : robbipromoter@gmail.comchosenfewdjs.comkaydeerecords.com+like+ Robbi's Pagehttps://www.facebook.com/pages/Robbi-the-Promoter-NYC/65325828443?ref=br_tf+like Thewaywewere Productions group
URL;VALUE=URI:https://prideparade.net/events/view/united-states/new-york-ny/santos-party-house/two-nations
UID:https://prideparade.net/events/view/united-states/new-york-ny/santos-party-house/two-nations
DTSTAMP:20130829T154827
LAST-MODIFIED:20130829T154827
CATEGORIES:Events
STATUS:CONFIRMED
SEQUENCE:0
ORGANIZER;CN=PrideParade.net:X-ADDR:https://prideparade.net/
LOCATION:96 Lafayette Street\, New York, NY. United states
END:VEVENT
END:VCALENDAR
