BEGIN:VCALENDAR
X-WR-CALNAME:PrideParade.net
VERSION:2.0
PRODID:-//PrideParade.net ICS//EN
CALSCALE:GREGORIAN
METHOD:PUBLISH
BEGIN:VEVENT
DTSTART;VALUE=DATE-TIME:20250609T110000
DTEND;VALUE=DATE-TIME:20250616T210000
TRANSP:TRANSPARENT
SUMMARY:Baltimore Pride 2025
DESCRIPTION:Baltimore Pride 2025\nJune 9-16\, 2025 - 11:00AM to 9:00PM EST\nIn the true spirit of PRIDE\, we will be marching for unity and celebrating our resilience. Come out and watch dozens of groups show their PRIDE.\n\nThe Baltimore Pride Celebration is a program of the Gay\, Lesbian\, Bisexual\, Transgender Community Center of Baltimore and Central Maryland (GLCCB)\, a&nbsp;community-based nonprofit organization founded in 1977 whose mission is to provide support\, education\, outreach and advocacy for lesbian\, gay\, bisexual\, transgender\, queer (LGBTQ) individuals and their allies\, through programs\, services\, and resources.\n&nbsp;\n\n\nThe origins of Baltimore Pride date back to 1975. In the decades since\, Baltimore Pride has grown to become Maryland&rsquo;s largest LGBTQ visibility event\, providing an opportunity for the greater Maryland community to experience and learn more about the LGBTQ community through a weekend of wonderful events and exhibitions.\n&nbsp;\n\n\nOver the past four decades\, Baltimore Pride has evolved from a small rally of a dozen activists to a full-fledged festival that welcomes 30\,000 revelers annually.\n&nbsp;\nFor full details\, events\, shows\, and locations please visit the website.\n\nbaltimorepride.org
URL;VALUE=URI:http://prideparade.net/events/view/united-states/baltimore-md/baltimore-pride-parade/baltimore-pride-2025
UID:http://prideparade.net/events/view/united-states/baltimore-md/baltimore-pride-parade/baltimore-pride-2025
DTSTAMP:20250215T131345
LAST-MODIFIED:20250731T115756
CATEGORIES:Prides
STATUS:CONFIRMED
SEQUENCE:0
ORGANIZER;CN=PrideParade.net:X-ADDR:http://prideparade.net/
LOCATION:Charles Street & Madison Street\, Baltimore, MD. United states
END:VEVENT
END:VCALENDAR
